BEGIN:VCALENDAR
VERSION:2.0
PRODID:-//Derya Avcı - ECPv6.15.12.2//NONSGML v1.0//EN
CALSCALE:GREGORIAN
METHOD:PUBLISH
X-WR-CALNAME:Derya Avcı
X-ORIGINAL-URL:https://www.deryaavciegitimkurumlari.com
X-WR-CALDESC:Derya Avcı için etkinlikler
REFRESH-INTERVAL;VALUE=DURATION:PT1H
X-Robots-Tag:noindex
X-PUBLISHED-TTL:PT1H
BEGIN:VTIMEZONE
TZID:UTC
BEGIN:STANDARD
TZOFFSETFROM:+0000
TZOFFSETTO:+0000
TZNAME:UTC
DTSTART:20230101T000000
END:STANDARD
END:VTIMEZONE
BEGIN:VEVENT
DTSTART;VALUE=DATE:20240820
DTEND;VALUE=DATE:20240821
DTSTAMP:20260423T130336
CREATED:20240820T102743Z
LAST-MODIFIED:20250521T122420Z
UID:12637-1724112000-1724198399@www.deryaavciegitimkurumlari.com
SUMMARY:2025 Yaz Deneme Sınavı
DESCRIPTION:Derya Avcı Eğitim Kurumları 2025 Ücretsiz Deneme Sınavları Çok Yakında!				\n				\n				\n				\n									Sevgili Öğrencilerimiz ve Velilerimiz\, 2025 eğitim-öğretim yılına sağlam ve güvenle adım atmak isteyen tüm öğrencilerimiz için Derya Avcı Eğitim Kurumları olarak büyük bir heyecanla hazırladığımız ücretsiz deneme sınavlarımızın tarihlerini çok yakında web sitemizde açıklayacağız! Başarı yolculuğunuzda kendinizi test etmek\, eksiklerinizi görmek ve sınav stratejilerinizi geliştirmek için harika bir fırsat olan bu ücretsiz deneme sınavları\, alanında uzman kadromuzun titiz hazırlıklarıyla sizlerle buluşacak. Hedeflerinize ulaşmanız için gereken tüm araçları sağlamak\, motivasyonunuzu artırmak ve öğrenme sürecinizi güçlendirmek en büyük önceliğimiz. Neden Ücretsiz Deneme Sınavlarımızı Kaçırmamalısınız? Güncel müfredata tamamen uygun\, Gerçek sınav formatında ve zorluk seviyesinde\, Detaylı analiz raporları ile kişisel gelişiminize ışık tutan\, Deneme sonuçları üzerinden birebir rehberlik ve destek imkanı sunan\, Sınav kaygınızı azaltarak özgüveninizi artıran\, Ücretsiz deneme sınavlarımız\, sadece bilgi ölçmekle kalmaz; aynı zamanda sizi sınav gününe en iyi şekilde hazırlar. Tarihleri Nereden Öğreneceksiniz? Deneme sınavlarımızın kesin tarihleri\, katılım koşulları ve başvuru süreçleri için web sitemizi düzenli olarak takip etmeniz yeterli. Güncel bilgiler\, duyurular ve sınavlara ilişkin tüm detayları en hızlı şekilde sizlere aktaracağız. 								\n				\n				\n				\n				\n		\n		\n				\n				\n					BİLGİLENDİRME				\n				\n		\n				\n				\n									Derya Avcı Eğitim Kurumları 2025 Ücretsiz Deneme Sınavları Çok Yakında!
URL:https://www.deryaavciegitimkurumlari.com/event/2025-yaz-deneme-sinavi/
LOCATION:Derya Avcı Eğitim Kurumları\, Antalya\, Turkey
CATEGORIES:Biology,Computer Science,Mathematics,Social Science
ATTACH;FMTTYPE=image/webp:https://www.deryaavciegitimkurumlari.com/wp-content/uploads/2024/08/group_626.webp
ORGANIZER;CN="Assistant Teacher":MAILTO:organize@info.com
END:VEVENT
END:VCALENDAR